BEGIN:VCALENDAR
VERSION:2.0
PRODID:-//Tukios.com/
BEGIN:VEVENT
UID:ad2b31af-f2ee-4f94-a6e5-66c4495120fc@www.brooksfuneral.com
DTSTAMP:20260421T174649Z
DTSTART:20260424T190000Z
DTEND:20260424T200000Z
SUMMARY:Funeral Service
DESCRIPTION:
URL:https://www.brooksfuneral.com/obituaries/sam-lagrone
LOCATION:Brooks Chapel 1702 5th Avenue  Canyon TX 79015
GEO:34.9785234;-101.9260456
END:VEVENT
END:VCALENDAR