BEGIN:VCALENDAR
VERSION:2.0
PRODID:-//Tukios.com/
BEGIN:VEVENT
UID:962e3b9b-6011-4266-8a10-6b06fcfa7c39@www.brooksfuneral.com
DTSTAMP:20260421T174522Z
DTSTART:20260423T220000Z
DTEND:20260424T000000Z
SUMMARY:Visitation
DESCRIPTION:
URL:https://www.brooksfuneral.com/obituaries/sam-lagrone
LOCATION:Brooks Chapel 1702 5th Avenue  Canyon TX 79015
GEO:34.9785234;-101.9260456
END:VEVENT
END:VCALENDAR