BEGIN:VCALENDAR
VERSION:2.0
PRODID:-//Tukios.com/
BEGIN:VEVENT
UID:443df789-821e-4cba-8978-0a0be7503eea@www.brooksfuneral.com
DTSTAMP:20260423T214447Z
DTSTART:20260501T150000Z
DTEND:20260501T160000Z
SUMMARY:Memorial Service
DESCRIPTION:
URL:https://www.brooksfuneral.com/obituaries/cynthia-warren
LOCATION:Brooks Funeral Home 1702 5th Street  Canyon TX 79015
GEO:34.9714066;-101.9406404
END:VEVENT
END:VCALENDAR